BEGIN:VCALENDAR
VERSION:2.0
PRODID:-//Tukios.com/
BEGIN:VEVENT
UID:be787db1-ed5d-41d4-9dde-3cdf529893ef@www.marleyfuneralhome.com
DTSTAMP:20260424T183709Z
DTSTART:20260502T160000Z
DTEND:20260502T170000Z
SUMMARY:Mass
DESCRIPTION:
URL:https://www.marleyfuneralhome.com/obituaries/mary-busch
LOCATION:Ss. Joachim & Anne (St. Vincent worship site) 50 East Avenue  
	Attica NY 14011
GEO:42.8658309;-78.2756668
END:VEVENT
END:VCALENDAR