BEGIN:VCALENDAR
VERSION:2.0
PRODID:-//Tukios.com/
BEGIN:VEVENT
UID:921c553a-6a95-4aa4-af5b-8d78251338c1@www.marleyfuneralhome.com
DTSTAMP:20260424T155359Z
DTSTART:20260428T200000Z
DTEND:20260428T220000Z
SUMMARY:Visitation
DESCRIPTION:
URL:https://www.marleyfuneralhome.com/obituaries/katherine-maksymik
LOCATION:Marley Funeral Home 135 Main Street  Attica NY 14011
GEO:42.8646975;-78.2776019
END:VEVENT
END:VCALENDAR