BEGIN:VCALENDAR
VERSION:2.0
PRODID:-//Tukios.com/
BEGIN:VEVENT
UID:522cfdbb-ace5-4554-80ea-d89deb12af00@www.marleyfuneralhome.com
DTSTAMP:20260424T154801Z
DTSTART:20260428T220000Z
DTEND:20260428T230000Z
SUMMARY:Memorial Service
DESCRIPTION:
URL:https://www.marleyfuneralhome.com/obituaries/katherine-maksymik
LOCATION:Marley Funeral Home 135 Main Street  Attica NY 14011
GEO:42.8646975;-78.2776019
END:VEVENT
END:VCALENDAR